BEGIN:VCALENDAR
VERSION:2.0
PRODID:-//ChamberMaster//Event Calendar 2.0//EN
METHOD:PUBLISH
X-PUBLISHED-TTL:P3D
REFRESH-INTERVAL:P3D
CALSCALE:GREGORIAN
BEGIN:VEVENT
DTSTART:20200314T170000Z
DTEND:20200314T200000Z
X-MICROSOFT-CDO-ALLDAYEVENT:FALSE
SUMMARY:SAGE Saturday
DESCRIPTION:Come learn how to make ice cream and your own unique snowflakes to decorate your house.\n\nSponsored By: Riverside FFA Chapter
X-ALT-DESC;FMTTYPE=text/html:Come learn how to make ice cream and your own unique snowflakes to decorate your house.<br />\nSponsored By: Riverside FFA Chapter
LOCATION:SAGE Center 101 Olson Rd
UID:e.3223.549
SEQUENCE:3
DTSTAMP:20260420T223248Z
URL:http://boardman.chambermaster.com/events/details/sage-saturday-549
END:VEVENT

END:VCALENDAR
