BEGIN:VCALENDAR
VERSION:2.0
PRODID:-//ChamberMaster//Event Calendar 2.0//EN
METHOD:PUBLISH
X-PUBLISHED-TTL:P3D
REFRESH-INTERVAL:P3D
CALSCALE:GREGORIAN
BEGIN:VEVENT
DTSTART:20190209T180000Z
DTEND:20190209T210000Z
X-MICROSOFT-CDO-ALLDAYEVENT:FALSE
SUMMARY:Sage Saturday Take Over!
DESCRIPTION:Oregon Trail Library is taking over!\n\nPlay with magnets\, magnetic slime station and grass seed garden.
X-ALT-DESC;FMTTYPE=text/html:Oregon Trail Library is taking over!<br />\nPlay with magnets\, magnetic slime station and grass seed garden.
LOCATION:SAGE CENTER
UID:e.3223.260
SEQUENCE:3
DTSTAMP:20260424T075249Z
URL:http://boardman.chambermaster.com/events/details/sage-saturday-take-over-260
END:VEVENT

END:VCALENDAR
