BEGIN:VCALENDAR
VERSION:2.0
PRODID:-//ChamberMaster//Event Calendar 2.0//EN
METHOD:PUBLISH
X-PUBLISHED-TTL:P3D
REFRESH-INTERVAL:P3D
CALSCALE:GREGORIAN
BEGIN:VEVENT
DTSTART:20190309T180000Z
DTEND:20190309T210000Z
X-MICROSOFT-CDO-ALLDAYEVENT:FALSE
SUMMARY:Sage Saturday Take Over!
DESCRIPTION:
X-ALT-DESC;FMTTYPE=text/html:
LOCATION:
UID:e.3223.274
SEQUENCE:3
DTSTAMP:20260424T074543Z
URL:http://boardman.chambermaster.com/events/details/sage-saturday-take-over-274
END:VEVENT

END:VCALENDAR
