BEGIN:VCALENDAR
VERSION:2.0
PRODID:-//ChamberMaster//Event Calendar 2.0//EN
METHOD:PUBLISH
X-PUBLISHED-TTL:P3D
REFRESH-INTERVAL:P3D
CALSCALE:GREGORIAN
BEGIN:VEVENT
DTSTART:20190413T170000Z
DTEND:20190413T200000Z
X-MICROSOFT-CDO-ALLDAYEVENT:FALSE
SUMMARY:Sage Saturday Take Over!
DESCRIPTION:FREE ADMISSION\n\nKite making and flying
X-ALT-DESC;FMTTYPE=text/html:FREE ADMISSION<br />\nKite making and flying
LOCATION:Sage Center 101 Olson Rd Boardman\, OR
UID:e.3223.298
SEQUENCE:3
DTSTAMP:20260422T214058Z
URL:http://boardman.chambermaster.com/events/details/sage-saturday-take-over-298
END:VEVENT

END:VCALENDAR
