BEGIN:VCALENDAR
VERSION:2.0
PRODID:-//ChamberMaster//Event Calendar 2.0//EN
METHOD:PUBLISH
X-PUBLISHED-TTL:P3D
REFRESH-INTERVAL:P3D
CALSCALE:GREGORIAN
BEGIN:VEVENT
DTSTART:20190511T170000Z
DTEND:20190511T200000Z
X-MICROSOFT-CDO-ALLDAYEVENT:FALSE
SUMMARY:Sage Satureday!
DESCRIPTION:Girl Scouts are taking over!\n\nPlease join troop #23001 for an indoor campout! Decorate a wood chip necklace\, listen to stories and sing songs around a pretend campfire.
X-ALT-DESC;FMTTYPE=text/html:Girl Scouts are taking over!<br />\nPlease join troop #23001 for an indoor campout! Decorate a wood chip necklace\, listen to stories and sing songs around a pretend campfire.
LOCATION:SAGE Center 101 Olson Rd\, Boardman OR 97818
UID:e.3223.312
SEQUENCE:3
DTSTAMP:20260422T111329Z
URL:http://boardman.chambermaster.com/events/details/sage-satureday-312
END:VEVENT

END:VCALENDAR
