BEGIN:VCALENDAR
VERSION:2.0
PRODID:-//ChamberMaster//Event Calendar 2.0//EN
METHOD:PUBLISH
X-PUBLISHED-TTL:P3D
REFRESH-INTERVAL:P3D
CALSCALE:GREGORIAN
BEGIN:VEVENT
DTSTART:20191005T143000Z
DTEND:20191005T173000Z
X-MICROSOFT-CDO-ALLDAYEVENT:FALSE
SUMMARY:Senior Breakfast
DESCRIPTION:Hash browns\, eggs\, ham or sausage\, pancakes\, toast or waffles\, biscuits & gravy\, coffee\, milk\, juice.
X-ALT-DESC;FMTTYPE=text/html:Hash browns\, eggs\, ham or sausage\, pancakes\, toast or waffles\, biscuits &amp\; gravy\, coffee\, milk\, juice.
LOCATION:Boardman Senior Center
UID:e.3223.428
SEQUENCE:3
DTSTAMP:20260425T024419Z
URL:http://boardman.chambermaster.com/events/details/senior-breakfast-428
END:VEVENT

END:VCALENDAR
