BEGIN:VCALENDAR
VERSION:2.0
PRODID:-//ChamberMaster//Event Calendar 2.0//EN
METHOD:PUBLISH
X-PUBLISHED-TTL:P3D
REFRESH-INTERVAL:P3D
CALSCALE:GREGORIAN
BEGIN:VEVENT
DTSTART;VALUE=DATE:20190221
DTEND;VALUE=DATE:20190222
TRANSP:TRANSPARENT
X-MICROSOFT-CDO-ALLDAYEVENT:TRUE
SUMMARY:Senior Center
DESCRIPTION:BIRTHDAY DINNER\n\nBaked Salmon\, garden salad\, tater tot casserole/ mixed veggies\, rolls\, cake & ice cream\n\n\n\nCall for Delivery and times 541-481-3257
X-ALT-DESC;FMTTYPE=text/html:BIRTHDAY DINNER<br />\nBaked Salmon\, garden salad\, tater tot casserole/ mixed veggies\, rolls\, cake &amp\; ice cream<br />\n<br />\nCall for Delivery and times 541-481-3257
LOCATION:100 Tatone Street
UID:e.3223.256
SEQUENCE:3
DTSTAMP:20260423T230743Z
URL:http://boardman.chambermaster.com/events/details/senior-center-256
END:VEVENT

END:VCALENDAR
