BEGIN:VCALENDAR
VERSION:2.0
PRODID:-//ChamberMaster//Event Calendar 2.0//EN
METHOD:PUBLISH
X-PUBLISHED-TTL:P3D
REFRESH-INTERVAL:P3D
CALSCALE:GREGORIAN
BEGIN:VEVENT
DTSTART;VALUE=DATE:20190321
DTEND;VALUE=DATE:20190322
TRANSP:TRANSPARENT
X-MICROSOFT-CDO-ALLDAYEVENT:TRUE
SUMMARY:Senior Center
DESCRIPTION:BIRTHDAY DINNER\n\nBaked Ham $ Sweet Potatoes\, Fresh Carrots\, Rolls\, Salad\, Cake & Ice Cream
X-ALT-DESC;FMTTYPE=text/html:BIRTHDAY DINNER<br />\nBaked Ham $ Sweet Potatoes\, Fresh Carrots\, Rolls\, Salad\, Cake &amp\; Ice Cream
LOCATION:Senior Center 100 Tatone St. Boardman\, OR 97818
UID:e.3223.284
SEQUENCE:3
DTSTAMP:20260424T111155Z
URL:http://boardman.chambermaster.com/events/details/senior-center-284
END:VEVENT

END:VCALENDAR
