BEGIN:VCALENDAR
VERSION:2.0
PRODID:-//ChamberMaster//Event Calendar 2.0//EN
METHOD:PUBLISH
X-PUBLISHED-TTL:P3D
REFRESH-INTERVAL:P3D
CALSCALE:GREGORIAN
BEGIN:VEVENT
DTSTART:20190302T153000Z
DTEND:20190302T183000Z
X-MICROSOFT-CDO-ALLDAYEVENT:FALSE
SUMMARY:Senior Center Breakfast
DESCRIPTION:Sausage/ Ham\; eggs/pancakesm hash browns\, Biscuits & Gravy\, Coffee/ Juice/ Milk\n\nALL ARE WELCOME
X-ALT-DESC;FMTTYPE=text/html:Sausage/ Ham\; eggs/pancakesm hash browns\, Biscuits &amp\; Gravy\, Coffee/ Juice/ Milk<br />\nALL ARE WELCOME
LOCATION:Boardman Senior Center 100 Tatone St. Boardman\, OR 97818
UID:e.3223.278
SEQUENCE:3
DTSTAMP:20260423T212233Z
URL:http://boardman.chambermaster.com/events/details/senior-center-breakfast-278
END:VEVENT

END:VCALENDAR
