BEGIN:VCALENDAR
VERSION:2.0
PRODID:-//ChamberMaster//Event Calendar 2.0//EN
METHOD:PUBLISH
X-PUBLISHED-TTL:P3D
REFRESH-INTERVAL:P3D
CALSCALE:GREGORIAN
BEGIN:VEVENT
DTSTART:20190907T143000Z
DTEND:20190907T170000Z
X-MICROSOFT-CDO-ALLDAYEVENT:FALSE
SUMMARY:Senior Center Breakfast
DESCRIPTION:Hash browns\, eggs\, ham or sausage\, pancakes\, toast\, waffles\, coffee\, milk\, juice.
X-ALT-DESC;FMTTYPE=text/html:Hash browns\, eggs\, ham or sausage\, pancakes\, toast\, waffles\, coffee\, milk\, juice.
LOCATION:Boardman Senior Center
UID:e.3223.413
SEQUENCE:3
DTSTAMP:20260422T211830Z
URL:http://boardman.chambermaster.com/events/details/senior-center-breakfast-413
END:VEVENT

END:VCALENDAR
