BEGIN:VCALENDAR
VERSION:2.0
PRODID:-//ChamberMaster//Event Calendar 2.0//EN
METHOD:PUBLISH
X-PUBLISHED-TTL:P3D
REFRESH-INTERVAL:P3D
CALSCALE:GREGORIAN
BEGIN:VEVENT
DTSTART:20191102T143000Z
DTEND:20191103T053000Z
X-MICROSOFT-CDO-ALLDAYEVENT:FALSE
SUMMARY:Senior Center Breakfast
DESCRIPTION:Hash browns\, eggs\, ham\, sausage\, pancakes\, toast\, waffles\, biscuits & gravy\, coffee\, milk\, juice.
X-ALT-DESC;FMTTYPE=text/html:Hash browns\, eggs\, ham\, sausage\, pancakes\, toast\, waffles\, biscuits &amp\; gravy\, coffee\, milk\, juice.
LOCATION:
UID:e.3223.456
SEQUENCE:3
DTSTAMP:20260423T140939Z
URL:http://boardman.chambermaster.com/events/details/senior-center-breakfast-456
END:VEVENT

END:VCALENDAR
