BEGIN:VCALENDAR
VERSION:2.0
PRODID:-//ChamberMaster//Event Calendar 2.0//EN
METHOD:PUBLISH
X-PUBLISHED-TTL:P3D
REFRESH-INTERVAL:P3D
CALSCALE:GREGORIAN
BEGIN:VEVENT
DTSTART;VALUE=DATE:20190117
DTEND;VALUE=DATE:20190118
TRANSP:TRANSPARENT
X-MICROSOFT-CDO-ALLDAYEVENT:TRUE
SUMMARY:Senior Center Lunch
DESCRIPTION:Salad Bar with Soup Garlic Bread and Lemon Bars\n\nTake out lunches available call 541-481-3257
X-ALT-DESC;FMTTYPE=text/html:Salad Bar with Soup Garlic Bread and Lemon Bars<br />\nTake out lunches available call 541-481-3257
LOCATION:100 Tatone Street
UID:e.3223.237
SEQUENCE:3
DTSTAMP:20260425T015051Z
URL:http://boardman.chambermaster.com/events/details/senior-center-lunch-237
END:VEVENT

END:VCALENDAR
