BEGIN:VCALENDAR
VERSION:2.0
PRODID:-//ChamberMaster//Event Calendar 2.0//EN
METHOD:PUBLISH
X-PUBLISHED-TTL:P3D
REFRESH-INTERVAL:P3D
CALSCALE:GREGORIAN
BEGIN:VEVENT
DTSTART;VALUE=DATE:20190214
DTEND;VALUE=DATE:20190215
TRANSP:TRANSPARENT
X-MICROSOFT-CDO-ALLDAYEVENT:TRUE
SUMMARY:Senior Center Lunch
DESCRIPTION:Oven Baked Chicken\, rice &gravy\, Broccoli/ salad\, bread and cupcakes\n\n\n\nCall For Delivery 541-481-3257
X-ALT-DESC;FMTTYPE=text/html:Oven Baked Chicken\, rice &amp\;gravy\, Broccoli/ salad\, bread and cupcakes<br />\n<br />\nCall For Delivery 541-481-3257
LOCATION:100 Tatone Street
UID:e.3223.254
SEQUENCE:3
DTSTAMP:20260425T130159Z
URL:http://boardman.chambermaster.com/events/details/senior-center-lunch-254
END:VEVENT

END:VCALENDAR
