BEGIN:VCALENDAR
VERSION:2.0
PRODID:-//ChamberMaster//Event Calendar 2.0//EN
METHOD:PUBLISH
X-PUBLISHED-TTL:P3D
REFRESH-INTERVAL:P3D
CALSCALE:GREGORIAN
BEGIN:VEVENT
DTSTART;VALUE=DATE:20190312
DTEND;VALUE=DATE:20190313
TRANSP:TRANSPARENT
X-MICROSOFT-CDO-ALLDAYEVENT:TRUE
SUMMARY:Senior Center Lunch
DESCRIPTION:Hamburger Gracy with Mashed Potatoes\, Mixed Veggies\, Salad\, Dessert
X-ALT-DESC;FMTTYPE=text/html:Hamburger Gracy with Mashed Potatoes\, Mixed Veggies\, Salad\, Dessert
LOCATION:Senior Center 100 Tatone St Boardman\, OR 97818
UID:e.3223.281
SEQUENCE:3
DTSTAMP:20260425T015051Z
URL:http://boardman.chambermaster.com/events/details/senior-center-lunch-281
END:VEVENT

END:VCALENDAR
