BEGIN:VCALENDAR
VERSION:2.0
PRODID:-//ChamberMaster//Event Calendar 2.0//EN
METHOD:PUBLISH
X-PUBLISHED-TTL:P3D
REFRESH-INTERVAL:P3D
CALSCALE:GREGORIAN
BEGIN:VEVENT
DTSTART;VALUE=DATE:20190326
DTEND;VALUE=DATE:20190327
TRANSP:TRANSPARENT
X-MICROSOFT-CDO-ALLDAYEVENT:TRUE
SUMMARY:Senior Center Lunch
DESCRIPTION:Beef Taco Caserole\, Vetetables\, Salad\, Dessert
X-ALT-DESC;FMTTYPE=text/html:Beef Taco Caserole\, Vetetables\, Salad\, Dessert
LOCATION:Senior Center 100 Tatone St. Boardman\, OR 97818
UID:e.3223.285
SEQUENCE:3
DTSTAMP:20260424T214939Z
URL:http://boardman.chambermaster.com/events/details/senior-center-lunch-285
END:VEVENT

END:VCALENDAR
