BEGIN:VCALENDAR
VERSION:2.0
PRODID:-//ChamberMaster//Event Calendar 2.0//EN
METHOD:PUBLISH
X-PUBLISHED-TTL:P3D
REFRESH-INTERVAL:P3D
CALSCALE:GREGORIAN
BEGIN:VEVENT
DTSTART:20190523T180000Z
DTEND:20190523T200000Z
X-MICROSOFT-CDO-ALLDAYEVENT:FALSE
SUMMARY:Senior Center Lunch
DESCRIPTION:Birthday Dinner\n\nChicken fried steak\, Mashed Potatoes & Gravy\, Veggies\, Salad\, Bread & Butter
X-ALT-DESC;FMTTYPE=text/html:<u>Birthday Dinner</u><br />\nChicken fried steak\, Mashed Potatoes &amp\; Gravy\, Veggies\, Salad\, Bread &amp\; Butter
LOCATION:Boardman Senior Center
UID:e.3223.324
SEQUENCE:3
DTSTAMP:20260421T225437Z
URL:http://boardman.chambermaster.com/events/details/senior-center-lunch-324
END:VEVENT

END:VCALENDAR
