BEGIN:VCALENDAR
VERSION:2.0
PRODID:-//ChamberMaster//Event Calendar 2.0//EN
METHOD:PUBLISH
X-PUBLISHED-TTL:P3D
REFRESH-INTERVAL:P3D
CALSCALE:GREGORIAN
BEGIN:VEVENT
DTSTART:20190528T180000Z
DTEND:20190528T200000Z
X-MICROSOFT-CDO-ALLDAYEVENT:FALSE
SUMMARY:Senior Center Lunch
DESCRIPTION:Navy Beans & Ham\, Cornbreadm Salad\, Fluff Fruit
X-ALT-DESC;FMTTYPE=text/html:Navy Beans &amp\; Ham\, Cornbreadm Salad\, Fluff Fruit
LOCATION:Boardman Senior Center
UID:e.3223.325
SEQUENCE:3
DTSTAMP:20260421T225437Z
URL:http://boardman.chambermaster.com/events/details/senior-center-lunch-325
END:VEVENT

END:VCALENDAR
