BEGIN:VCALENDAR
VERSION:2.0
PRODID:-//ChamberMaster//Event Calendar 2.0//EN
METHOD:PUBLISH
X-PUBLISHED-TTL:P3D
REFRESH-INTERVAL:P3D
CALSCALE:GREGORIAN
BEGIN:VEVENT
DTSTART:20190815T190000Z
DTEND:20190815T200000Z
X-MICROSOFT-CDO-ALLDAYEVENT:FALSE
SUMMARY:Senior Center Lunch
DESCRIPTION:Birthday Dinner\n\nChicken fried steak\, scalloped potatoes\, vegetable medley\, tossed salad\, rolls\, cake & ice cream
X-ALT-DESC;FMTTYPE=text/html:Birthday Dinner<br />\nChicken fried steak\, scalloped potatoes\, vegetable medley\, tossed salad\, rolls\, cake &amp\; ice cream
LOCATION:Boardman Senior Center
UID:e.3223.381
SEQUENCE:3
DTSTAMP:20260425T133607Z
URL:http://boardman.chambermaster.com/events/details/senior-center-lunch-381
END:VEVENT

END:VCALENDAR
