BEGIN:VCALENDAR
VERSION:2.0
PRODID:-//ChamberMaster//Event Calendar 2.0//EN
METHOD:PUBLISH
X-PUBLISHED-TTL:P3D
REFRESH-INTERVAL:P3D
CALSCALE:GREGORIAN
BEGIN:VEVENT
DTSTART:20190910T190000Z
DTEND:20190910T200000Z
X-MICROSOFT-CDO-ALLDAYEVENT:FALSE
SUMMARY:Senior Center Lunch
DESCRIPTION:Stuffed bell peppers\, baked potato halves\, salad\, cream corn\, bred & butter\, pudding & cookies.
X-ALT-DESC;FMTTYPE=text/html:Stuffed bell peppers\, baked potato halves\, salad\, cream corn\, bred &amp\; butter\, pudding &amp\; cookies.
LOCATION:Boardman Senior Center
UID:e.3223.414
SEQUENCE:3
DTSTAMP:20260423T034107Z
URL:http://boardman.chambermaster.com/events/details/senior-center-lunch-414
END:VEVENT

END:VCALENDAR
