BEGIN:VCALENDAR
VERSION:2.0
PRODID:-//ChamberMaster//Event Calendar 2.0//EN
METHOD:PUBLISH
X-PUBLISHED-TTL:P3D
REFRESH-INTERVAL:P3D
CALSCALE:GREGORIAN
BEGIN:VEVENT
DTSTART:20190917T190000Z
DTEND:20190917T200000Z
X-MICROSOFT-CDO-ALLDAYEVENT:FALSE
SUMMARY:Senior Center Lunch
DESCRIPTION:Sweet & Sour meat balls\, rice\, carrot salad\, peas\, lemon bars
X-ALT-DESC;FMTTYPE=text/html:Sweet &amp\; Sour meat balls\, rice\, carrot salad\, peas\, lemon bars
LOCATION:Boardman Senior Center
UID:e.3223.416
SEQUENCE:3
DTSTAMP:20260423T042003Z
URL:http://boardman.chambermaster.com/events/details/senior-center-lunch-416
END:VEVENT

END:VCALENDAR
