BEGIN:VCALENDAR
VERSION:2.0
PRODID:-//ChamberMaster//Event Calendar 2.0//EN
METHOD:PUBLISH
X-PUBLISHED-TTL:P3D
REFRESH-INTERVAL:P3D
CALSCALE:GREGORIAN
BEGIN:VEVENT
DTSTART:20190919T190000Z
DTEND:20190919T200000Z
X-MICROSOFT-CDO-ALLDAYEVENT:FALSE
SUMMARY:Senior Center Lunch
DESCRIPTION:" Birthday Dinner"\n\nHam\, mashed potatoes & gravy\, green salad\, spinach rolls\, cake & ice cream.
X-ALT-DESC;FMTTYPE=text/html:&quot\; Birthday Dinner&quot\;<br />\nHam\, mashed potatoes &amp\; gravy\, green salad\, spinach rolls\, cake &amp\; ice cream.
LOCATION:Boardman Senior Center
UID:e.3223.417
SEQUENCE:3
DTSTAMP:20260424T033654Z
URL:http://boardman.chambermaster.com/events/details/senior-center-lunch-417
END:VEVENT

END:VCALENDAR
