BEGIN:VCALENDAR
VERSION:2.0
PRODID:-//ChamberMaster//Event Calendar 2.0//EN
METHOD:PUBLISH
X-PUBLISHED-TTL:P3D
REFRESH-INTERVAL:P3D
CALSCALE:GREGORIAN
BEGIN:VEVENT
DTSTART:20191107T200000Z
DTEND:20191107T210000Z
X-MICROSOFT-CDO-ALLDAYEVENT:FALSE
SUMMARY:Senior Center Lunch
DESCRIPTION:Chicken fried Steak\, mashed potatoes & gravy\, corn\, salad\, bread & butter\, banana pudding.
X-ALT-DESC;FMTTYPE=text/html:Chicken fried Steak\, mashed potatoes &amp\; gravy\, corn\, salad\, bread &amp\; butter\, banana pudding.
LOCATION:Boardman Senior Center
UID:e.3223.458
SEQUENCE:3
DTSTAMP:20260424T221641Z
URL:http://boardman.chambermaster.com/events/details/senior-center-lunch-458
END:VEVENT

END:VCALENDAR
