BEGIN:VCALENDAR
VERSION:2.0
PRODID:-//ChamberMaster//Event Calendar 2.0//EN
METHOD:PUBLISH
X-PUBLISHED-TTL:P3D
REFRESH-INTERVAL:P3D
CALSCALE:GREGORIAN
BEGIN:VEVENT
DTSTART:20191203T200000Z
DTEND:20191203T210000Z
X-MICROSOFT-CDO-ALLDAYEVENT:FALSE
SUMMARY:Senior Center Lunch
DESCRIPTION:Hobo soup\, grilled cheese sandwiches\, crackers\, salad\, dessert.
X-ALT-DESC;FMTTYPE=text/html:Hobo soup\, grilled cheese sandwiches\, crackers\, salad\, dessert.
LOCATION:Boardman Senior Center
UID:e.3223.465
SEQUENCE:3
DTSTAMP:20260422T082844Z
URL:http://boardman.chambermaster.com/events/details/senior-center-lunch-465
END:VEVENT

END:VCALENDAR
