BEGIN:VCALENDAR
VERSION:2.0
PRODID:-//ChamberMaster//Event Calendar 2.0//EN
METHOD:PUBLISH
X-PUBLISHED-TTL:P3D
REFRESH-INTERVAL:P3D
CALSCALE:GREGORIAN
BEGIN:VEVENT
DTSTART:20191205T200000Z
DTEND:20191205T210000Z
X-MICROSOFT-CDO-ALLDAYEVENT:FALSE
SUMMARY:Senior Center Lunch
DESCRIPTION:Barbequed chicken\, potato salad\, pork & beans\, garlic bread\, dessert
X-ALT-DESC;FMTTYPE=text/html:Barbequed chicken\, potato salad\, pork &amp\; beans\, garlic bread\, dessert
LOCATION:Boardman Senior Center
UID:e.3223.466
SEQUENCE:3
DTSTAMP:20260423T205934Z
URL:http://boardman.chambermaster.com/events/details/senior-center-lunch-466
END:VEVENT

END:VCALENDAR
