BEGIN:VCALENDAR
VERSION:2.0
PRODID:-//ChamberMaster//Event Calendar 2.0//EN
METHOD:PUBLISH
X-PUBLISHED-TTL:P3D
REFRESH-INTERVAL:P3D
CALSCALE:GREGORIAN
BEGIN:VEVENT
DTSTART:20200116T200000Z
DTEND:20200116T210000Z
X-MICROSOFT-CDO-ALLDAYEVENT:FALSE
SUMMARY:Senior Center Lunch
DESCRIPTION:Meat loaf\, mashed potatoes & gravy\, broccoli\, salad\, rolls\, cake & ice cream.
X-ALT-DESC;FMTTYPE=text/html:Meat loaf\, mashed potatoes &amp\; gravy\, broccoli\, salad\, rolls\, cake &amp\; ice cream.
LOCATION:Boardman Senior Center
UID:e.3223.514
SEQUENCE:3
DTSTAMP:20260425T130158Z
URL:http://boardman.chambermaster.com/events/details/senior-center-lunch-514
END:VEVENT

END:VCALENDAR
