BEGIN:VCALENDAR
VERSION:2.0
PRODID:-//ChamberMaster//Event Calendar 2.0//EN
METHOD:PUBLISH
X-PUBLISHED-TTL:P3D
REFRESH-INTERVAL:P3D
CALSCALE:GREGORIAN
BEGIN:VEVENT
DTSTART:20200121T200000Z
DTEND:20200121T210000Z
X-MICROSOFT-CDO-ALLDAYEVENT:FALSE
SUMMARY:Senior Center Lunch
DESCRIPTION:Kialbasa& sourkraut & potatoes\, cooked carrots\, salad\, garlic bread\, apple sauce.
X-ALT-DESC;FMTTYPE=text/html:Kialbasa&amp\; sourkraut &amp\; potatoes\, cooked carrots\, salad\, garlic bread\, apple sauce.
LOCATION:Boardman Senior Center
UID:e.3223.515
SEQUENCE:3
DTSTAMP:20260421T033303Z
URL:http://boardman.chambermaster.com/events/details/senior-center-lunch-515
END:VEVENT

END:VCALENDAR
