BEGIN:VCALENDAR
VERSION:2.0
PRODID:-//ChamberMaster//Event Calendar 2.0//EN
METHOD:PUBLISH
X-PUBLISHED-TTL:P3D
REFRESH-INTERVAL:P3D
CALSCALE:GREGORIAN
BEGIN:VEVENT
DTSTART:20200130T200000Z
DTEND:20200130T210000Z
X-MICROSOFT-CDO-ALLDAYEVENT:FALSE
SUMMARY:Senior Center Lunch
DESCRIPTION:Spaghetti\, green beans\, garlic bread\, salad\, bread pudding.
X-ALT-DESC;FMTTYPE=text/html:Spaghetti\, green beans\, garlic bread\, salad\, bread pudding.
LOCATION:Boardman Senior Center
UID:e.3223.519
SEQUENCE:3
DTSTAMP:20260423T071942Z
URL:http://boardman.chambermaster.com/events/details/senior-center-lunch-519
END:VEVENT

END:VCALENDAR
