BEGIN:VCALENDAR
VERSION:2.0
PRODID:-//ChamberMaster//Event Calendar 2.0//EN
METHOD:PUBLISH
X-PUBLISHED-TTL:P3D
REFRESH-INTERVAL:P3D
CALSCALE:GREGORIAN
BEGIN:VEVENT
DTSTART:20191001T190000Z
DTEND:20191001T200000Z
X-MICROSOFT-CDO-ALLDAYEVENT:FALSE
SUMMARY:Senior Lunch
DESCRIPTION:Chicken\, 1/2 baked potato\, salad\, veggies\, bread & butter\, mandaran orange delight.
X-ALT-DESC;FMTTYPE=text/html:Chicken\, 1/2 baked potato\, salad\, veggies\, bread &amp\; butter\, mandaran orange delight.
LOCATION:Boardman Senior Center
UID:e.3223.429
SEQUENCE:3
DTSTAMP:20260423T130714Z
URL:http://boardman.chambermaster.com/events/details/senior-lunch-429
END:VEVENT

END:VCALENDAR
