BEGIN:VCALENDAR
VERSION:2.0
PRODID:-//ChamberMaster//Event Calendar 2.0//EN
METHOD:PUBLISH
X-PUBLISHED-TTL:P3D
REFRESH-INTERVAL:P3D
CALSCALE:GREGORIAN
BEGIN:VEVENT
DTSTART:20191003T190000Z
DTEND:20191003T200000Z
X-MICROSOFT-CDO-ALLDAYEVENT:FALSE
SUMMARY:Senior Lunch
DESCRIPTION:Beef pot pie\, salad\, crackers\, fruit cup
X-ALT-DESC;FMTTYPE=text/html:Beef pot pie\, salad\, crackers\, fruit cup
LOCATION:Boardman Senior Center
UID:e.3223.430
SEQUENCE:3
DTSTAMP:20260423T095103Z
URL:http://boardman.chambermaster.com/events/details/senior-lunch-430
END:VEVENT

END:VCALENDAR
