BEGIN:VCALENDAR
VERSION:2.0
PRODID:-//ChamberMaster//Event Calendar 2.0//EN
METHOD:PUBLISH
X-PUBLISHED-TTL:P3D
REFRESH-INTERVAL:P3D
CALSCALE:GREGORIAN
BEGIN:VEVENT
DTSTART;VALUE=DATE:20191022
DTEND;VALUE=DATE:20191023
TRANSP:TRANSPARENT
X-MICROSOFT-CDO-ALLDAYEVENT:TRUE
SUMMARY:Senior Lunch
DESCRIPTION:Fish sticks\, coleslaw\, tater tots\, bread & butter\, brownies.
X-ALT-DESC;FMTTYPE=text/html:Fish sticks\, coleslaw\, tater tots\, bread &amp\; butter\, brownies.
LOCATION:Boardman Senior Center
UID:e.3223.435
SEQUENCE:3
DTSTAMP:20260424T110528Z
URL:http://boardman.chambermaster.com/events/details/senior-lunch-435
END:VEVENT

END:VCALENDAR
