BEGIN:VCALENDAR
VERSION:2.0
PRODID:-//ChamberMaster//Event Calendar 2.0//EN
METHOD:PUBLISH
X-PUBLISHED-TTL:P3D
REFRESH-INTERVAL:P3D
CALSCALE:GREGORIAN
BEGIN:VEVENT
DTSTART:20191031T190000Z
DTEND:20191031T200000Z
X-MICROSOFT-CDO-ALLDAYEVENT:FALSE
SUMMARY:Senior Lunch
DESCRIPTION:Pork chops\, scalloped potatoes\, peas\, salad\, apple sauce.
X-ALT-DESC;FMTTYPE=text/html:Pork chops\, scalloped potatoes\, peas\, salad\, apple sauce.
LOCATION:Boardman Senior Center
UID:e.3223.438
SEQUENCE:3
DTSTAMP:20260423T155959Z
URL:http://boardman.chambermaster.com/events/details/senior-lunch-438
END:VEVENT

END:VCALENDAR
