BEGIN:VCALENDAR
VERSION:2.0
PRODID:-//ChamberMaster//Event Calendar 2.0//EN
METHOD:PUBLISH
X-PUBLISHED-TTL:P3D
REFRESH-INTERVAL:P3D
CALSCALE:GREGORIAN
BEGIN:VEVENT
DTSTART:20201010T010000Z
DTEND:20201010T020000Z
X-MICROSOFT-CDO-ALLDAYEVENT:FALSE
SUMMARY:Sheriff Candidates Forum
DESCRIPTION:We will be hosting the candidates for Morrow County sheriff live on the Boardman Chamber of Commerce Facebook page. They will give opening statements\, answer pre-determined questions\, then give closing statements. We will take questions from the Facebook audience\, if time allows.
X-ALT-DESC;FMTTYPE=text/html:We will be hosting the candidates for Morrow County sheriff live on the&nbsp\;<a href="https://www.facebook.com/ChamberBoardman" target="_blank">Boardman Chamber of Commerce Facebook page</a>. They will give opening statements\, answer pre-determined questions\, then give closing statements. We will take questions from the Facebook audience\, if time allows.
LOCATION:
UID:e.3223.1287
SEQUENCE:3
DTSTAMP:20260419T230851Z
URL:http://boardman.chambermaster.com/events/details/sheriff-candidates-forum-1287
END:VEVENT

END:VCALENDAR
