BEGIN:VCALENDAR
VERSION:2.0
PRODID:-//ChamberMaster//Event Calendar 2.0//EN
METHOD:PUBLISH
X-PUBLISHED-TTL:P3D
REFRESH-INTERVAL:P3D
CALSCALE:GREGORIAN
BEGIN:VEVENT
DTSTART:20200126T000000Z
DTEND:20200126T040000Z
X-MICROSOFT-CDO-ALLDAYEVENT:FALSE
SUMMARY:Spaghetti Feed
DESCRIPTION:Spaghetti feed and silent auction.\n\nAll proceeds will go to our Boardman Senior Center.\n\n\n\nQuestions please contact Sandy Toms: 541-815-5345
X-ALT-DESC;FMTTYPE=text/html:Spaghetti feed and silent auction.<br />\nAll proceeds will go to our Boardman Senior Center.<br />\n<br />\nQuestions please contact Sandy Toms: 541-815-5345
LOCATION:100 Tatone Street\, Boardman OR 97818
UID:e.3223.526
SEQUENCE:3
DTSTAMP:20260421T012234Z
URL:http://boardman.chambermaster.com/events/details/spaghetti-feed-526
END:VEVENT

END:VCALENDAR
