BEGIN:VCALENDAR
VERSION:2.0
PRODID:-//ChamberMaster//Event Calendar 2.0//EN
METHOD:PUBLISH
X-PUBLISHED-TTL:P3D
REFRESH-INTERVAL:P3D
CALSCALE:GREGORIAN
BEGIN:VEVENT
DTSTART:20190503T230000Z
DTEND:20190504T020000Z
X-MICROSOFT-CDO-ALLDAYEVENT:FALSE
SUMMARY:Spring Fest
DESCRIPTION:Spring Fest Flower Basket sale 2019\n\n\n\nEvery dollar raised goes to help build The Woolery
X-ALT-DESC;FMTTYPE=text/html:Spring Fest Flower Basket sale 2019<br />\n<br />\nEvery dollar raised goes to help build The Woolery
LOCATION:Bank of Eastern Oregon Parking Lot Arlington\, OR
UID:e.3223.317
SEQUENCE:3
DTSTAMP:20260422T070841Z
URL:http://boardman.chambermaster.com/events/details/spring-fest-317
END:VEVENT

END:VCALENDAR
