BEGIN:VCALENDAR
VERSION:2.0
PRODID:-//ChamberMaster//Event Calendar 2.0//EN
METHOD:PUBLISH
X-PUBLISHED-TTL:P3D
REFRESH-INTERVAL:P3D
CALSCALE:GREGORIAN
BEGIN:VEVENT
DTSTART;VALUE=DATE:20190412
DTEND;VALUE=DATE:20190506
TRANSP:TRANSPARENT
X-MICROSOFT-CDO-ALLDAYEVENT:TRUE
SUMMARY:Tastiest Taco
DESCRIPTION:Test out one taco at 10 different local restuarants to determine the tastiest taco.
X-ALT-DESC;FMTTYPE=text/html:Test out one taco at 10 different local restuarants to determine the tastiest taco.
LOCATION:
UID:e.3223.292
SEQUENCE:3
DTSTAMP:20260422T043349Z
URL:http://boardman.chambermaster.com/events/details/tastiest-taco-292
END:VEVENT

END:VCALENDAR
