BEGIN:VCALENDAR
VERSION:2.0
PRODID:-//ChamberMaster//Event Calendar 2.0//EN
METHOD:PUBLISH
X-PUBLISHED-TTL:P3D
REFRESH-INTERVAL:P3D
CALSCALE:GREGORIAN
BEGIN:VEVENT
DTSTART:20191128T213000Z
DTEND:20191129T000000Z
X-MICROSOFT-CDO-ALLDAYEVENT:FALSE
SUMMARY:Thanksgiving Dinner
DESCRIPTION:FREE Thanksgiving Diner at the Boardman Senior Center.\n\nPraise Service: 1:30PM\n\nDinner Served: 2:00PM - 4:00 PM\n\n\n\nSponsored by local area businesses and churches.\n\nEveryone is welcome!\n\nDelivery available!
X-ALT-DESC;FMTTYPE=text/html:FREE Thanksgiving Diner at the Boardman Senior Center.<br />\nPraise Service: 1:30PM<br />\nDinner Served: 2:00PM - 4:00 PM<br />\n<br />\nSponsored by local area businesses and churches.<br />\nEveryone is welcome!<br />\nDelivery available!
LOCATION:
UID:e.3223.479
SEQUENCE:3
DTSTAMP:20260422T000123Z
URL:http://boardman.chambermaster.com/events/details/thanksgiving-dinner-479
END:VEVENT

END:VCALENDAR
