BEGIN:VCALENDAR
VERSION:2.0
PRODID:-//ChamberMaster//Event Calendar 2.0//EN
METHOD:PUBLISH
X-PUBLISHED-TTL:P3D
REFRESH-INTERVAL:P3D
CALSCALE:GREGORIAN
BEGIN:VEVENT
DTSTART:20190921T160000Z
DTEND:20190922T010000Z
X-MICROSOFT-CDO-ALLDAYEVENT:FALSE
SUMMARY:The Funshine Open
DESCRIPTION:Community Women's Club of Irrigon & Boardman are having there 3rd annual Funshine Open.\n\n\n\n**Limited to 56 golfers**
X-ALT-DESC;FMTTYPE=text/html:Community Women&#39\;s Club of Irrigon &amp\; Boardman are having there 3rd annual Funshine Open.<br />\n<br />\n**Limited to 56 golfers**
LOCATION:Willow Run Golf Corse Boardman OR
UID:e.3223.401
SEQUENCE:3
DTSTAMP:20260423T155851Z
URL:http://boardman.chambermaster.com/events/details/the-funshine-open-401
END:VEVENT

END:VCALENDAR
