BEGIN:VCALENDAR
VERSION:2.0
PRODID:-//ChamberMaster//Event Calendar 2.0//EN
METHOD:PUBLISH
X-PUBLISHED-TTL:P3D
REFRESH-INTERVAL:P3D
CALSCALE:GREGORIAN
BEGIN:VEVENT
DTSTART:20191107T180000Z
DTEND:20191107T193000Z
X-MICROSOFT-CDO-ALLDAYEVENT:FALSE
SUMMARY:Veterans Day Celebration
DESCRIPTION:Music\, student Presentations\, Guest Speaker- Rep Greg Smith
X-ALT-DESC;FMTTYPE=text/html:Music\, student Presentations\, Guest Speaker- Rep Greg Smith
LOCATION:Sam Boardman Elementary Gym
UID:e.3223.452
SEQUENCE:3
DTSTAMP:20260421T034601Z
URL:http://boardman.chambermaster.com/events/details/veterans-day-celebration-452
END:VEVENT

END:VCALENDAR
