BEGIN:VCALENDAR
VERSION:2.0
PRODID:-//ChamberMaster//Event Calendar 2.0//EN
METHOD:PUBLISH
X-PUBLISHED-TTL:P3D
REFRESH-INTERVAL:P3D
CALSCALE:GREGORIAN
BEGIN:VEVENT
DTSTART:20210623T230000Z
DTEND:20210624T010000Z
X-MICROSOFT-CDO-ALLDAYEVENT:FALSE
SUMMARY:Windermere Group One Ribbon Cutting
DESCRIPTION:Ribbon cutting for the grand opening of Windermere's Boardman office
X-ALT-DESC;FMTTYPE=text/html:Ribbon cutting for the grand opening of Windermere&#39\;s Boardman office
LOCATION:202 Main St. Ste. 15\, Boardman\, OR 97818
UID:e.3223.1373
SEQUENCE:3
DTSTAMP:20260420T024721Z
URL:http://boardman.chambermaster.com/events/details/windermere-group-one-ribbon-cutting-1373
END:VEVENT

END:VCALENDAR
