BEGIN:VCALENDAR
VERSION:2.0
PRODID:-//ChamberMaster//Event Calendar 2.0//EN
METHOD:PUBLISH
X-PUBLISHED-TTL:P3D
REFRESH-INTERVAL:P3D
CALSCALE:GREGORIAN
BEGIN:VEVENT
DTSTART:20191207T180000Z
DTEND:20191208T000000Z
X-MICROSOFT-CDO-ALLDAYEVENT:FALSE
SUMMARY:Winter Market
DESCRIPTION:Handmade gifts\, home d cor\, jewelry\, beauty products\, specialty items and much more!\n\nEntertainment starting at 1PM\, kids crafts\, exhibits. \n\n\n\nSANTA will be making a special appearance for pictures in front of the Fire Truck.
X-ALT-DESC;FMTTYPE=text/html:Handmade gifts\, home d&eacute\;cor\, jewelry\, beauty products\, specialty items and much more!<br />\nEntertainment starting at 1PM\, kids crafts\, exhibits.&nbsp\;<br />\n<br />\nSANTA will be making a special appearance for pictures in front of the Fire Truck.
LOCATION:SAGE Center 101 Olson Rd
UID:e.3223.478
SEQUENCE:3
DTSTAMP:20260420T172656Z
URL:http://boardman.chambermaster.com/events/details/winter-market-478
END:VEVENT

END:VCALENDAR
