BEGIN:VCALENDAR
VERSION:2.0
PRODID:-//ChamberMaster//Event Calendar 2.0//EN
METHOD:PUBLISH
X-PUBLISHED-TTL:P3D
REFRESH-INTERVAL:P3D
CALSCALE:GREGORIAN
BEGIN:VEVENT
DTSTART:20181025T150000Z
DTEND:20181025T190000Z
X-MICROSOFT-CDO-ALLDAYEVENT:FALSE
SUMMARY:Work Ethic Train the Trainer Workshop
DESCRIPTION:Click Here
X-ALT-DESC;FMTTYPE=text/html:<a href="https://chambermaster.blob.core.windows.net/userfiles/UserFiles/chambers/3223/File/Fall2018BusinessEducationFlyer33.jpg">Click Here</a>
LOCATION:Sage Center 101 Olson Road Boardman\, OR 97818
UID:e.3223.157
SEQUENCE:3
DTSTAMP:20260425T033723Z
URL:http://boardman.chambermaster.com/events/details/work-ethic-train-the-trainer-workshop-157
END:VEVENT

END:VCALENDAR
